BEGIN:VCALENDAR
VERSION:2.0
PRODID:-//wp-events-plugin.com//7.2.3.1//EN
TZID:Europe/Warsaw
X-WR-TIMEZONE:Europe/Warsaw
BEGIN:VEVENT
UID:53@aszteatr.pl
DTSTART;TZID=Europe/Warsaw:20250921T180000
DTEND;TZID=Europe/Warsaw:20250921T190000
DTSTAMP:20250820T090159Z
URL:https://aszteatr.pl/events/balladyna-68-przybora-i-wasowski/
SUMMARY:BALLADYNA 68 / Przybora i Wasowski
DESCRIPTION:Balladyna’68 to historia bohaterki dramatu Słowackiego\, opo
 wiedziana na nowo przez duet Wasowski-Przybora (Kabaret Starszych Panów) 
 z charakterystycznym dla nich przymrużeniem oka.
ATTACH;FMTTYPE=image/jpeg:https://aszteatr.pl/wp-content/uploads/2025/08/1
 18762122_1701875186643177_866688010960980118_n.jpg
LOCATION:Kwatera Główna AszTeatru\, Starołęcka 60A\, Poznań\, Poland
X-APPLE-STRUCTURED-LOCATION;VALUE=URI;X-ADDRESS=Starołęcka 60A\, Poznań\
 , Poland;X-APPLE-RADIUS=100;X-TITLE=Kwatera Główna AszTeatru:geo:0,0
END:VEVENT
BEGIN:VTIMEZONE
TZID:Europe/Warsaw
X-LIC-LOCATION:Europe/Warsaw
BEGIN:DAYLIGHT
DTSTART:20250330T030000
TZOFFSETFROM:+0100
TZOFFSETTO:+0200
TZNAME:CEST
END:DAYLIGHT
END:VTIMEZONE
END:VCALENDAR