BEGIN:VCALENDAR
VERSION:2.0
PRODID:-//wp-events-plugin.com//7.2.3.1//EN
TZID:Europe/Warsaw
X-WR-TIMEZONE:Europe/Warsaw
BEGIN:VEVENT
UID:61@aszteatr.pl
DTSTART;TZID=Europe/Warsaw:20251115T180000
DTEND;TZID=Europe/Warsaw:20251115T193000
DTSTAMP:20251026T150357Z
URL:https://aszteatr.pl/events/dandar-melody-koncert-w-asz-teatrze/
SUMMARY:DanDar Melody / koncert w Asz.Teatrze
DESCRIPTION:Zapraszamy na kolejne muzyczne spotkanie. \nDanuta i Dariusz St
 occy tworzą niezwykłe duo instrumentalne.\nUtwory\, które usłyszymy zo
 staną wykonane na melodyce. Melodyka to unikalny instrument muzyczny\, kt
 óry łączy cechy instrumentów klawiszowych i dętych.
ATTACH;FMTTYPE=image/jpeg:https://aszteatr.pl/wp-content/uploads/2025/10/5
 65706536_817143677371014_94339159444846888_n.jpg
LOCATION:Kwatera Główna AszTeatru\, Starołęcka 60A\, Poznań\, Poland
X-APPLE-STRUCTURED-LOCATION;VALUE=URI;X-ADDRESS=Starołęcka 60A\, Poznań\
 , Poland;X-APPLE-RADIUS=100;X-TITLE=Kwatera Główna AszTeatru:geo:0,0
END:VEVENT
BEGIN:VTIMEZONE
TZID:Europe/Warsaw
X-LIC-LOCATION:Europe/Warsaw
BEGIN:STANDARD
DTSTART:20251026T020000
TZOFFSETFROM:+0200
TZOFFSETTO:+0100
TZNAME:CET
END:STANDARD
END:VTIMEZONE
END:VCALENDAR