BEGIN:VCALENDAR
VERSION:2.0
PRODID:-//wp-events-plugin.com//7.2.3.1//EN
TZID:Europe/Warsaw
X-WR-TIMEZONE:Europe/Warsaw
BEGIN:VEVENT
UID:42@aszteatr.pl
DTSTART;TZID=Europe/Warsaw:20250712T180000
DTEND;TZID=Europe/Warsaw:20250712T210000
DTSTAMP:20250630T140427Z
URL:https://aszteatr.pl/events/iv-starolecka-kupalka-staroleka-kulturalnie
 -2025/
SUMMARY:IV STAROŁĘCKA KUPAŁKA  / Starołęka kulturalnie 2025
DESCRIPTION:IV Starołęcka Kupałka czyli piknik rodzinny. Czekamy na Was 
 przed Fortem 1a na Starołęce. 
ATTACH;FMTTYPE=image/jpeg:https://aszteatr.pl/wp-content/uploads/2025/06/F
 B39330.jpg
LOCATION:Twierdza Poznań - Fort 1a\, ul. Gołężycka 32\, Poznań \, Pols
 ka\, Poland
X-APPLE-STRUCTURED-LOCATION;VALUE=URI;X-ADDRESS=ul. Gołężycka 32\, Pozna
 ń \, Polska\, Poland;X-APPLE-RADIUS=100;X-TITLE=Twierdza Poznań - Fort 1
 a:geo:0,0
END:VEVENT
BEGIN:VTIMEZONE
TZID:Europe/Warsaw
X-LIC-LOCATION:Europe/Warsaw
BEGIN:DAYLIGHT
DTSTART:20250330T030000
TZOFFSETFROM:+0100
TZOFFSETTO:+0200
TZNAME:CEST
END:DAYLIGHT
END:VTIMEZONE
END:VCALENDAR