BEGIN:VCALENDAR
VERSION:2.0
PRODID:-//wp-events-plugin.com//7.2.3.1//EN
TZID:Europe/Warsaw
X-WR-TIMEZONE:Europe/Warsaw
BEGIN:VEVENT
UID:48@aszteatr.pl
DTSTART;TZID=Europe/Warsaw:20250831T120000
DTEND;TZID=Europe/Warsaw:20250831T124500
DTSTAMP:20250804T093400Z
URL:https://aszteatr.pl/events/ksiezniczka-na-ziarnku-grochu-bajka-dla-dzi
 eci-2/
SUMMARY:Księżniczka na ziarnku grochu / bajka dla dzieci
DESCRIPTION:Czy znajdzie się księżniczka prawdziwa\, zobaczycie… bo z 
 tym jak wiemy różnie bywa.
ATTACH;FMTTYPE=image/jpeg:https://aszteatr.pl/wp-content/uploads/2025/06/P
 2250095.jpg
LOCATION:Rynek Łazarski\, Rynek Łazarski\, 61-001\, Poznań \, Polska \, 
 61-001\, Poland
X-APPLE-STRUCTURED-LOCATION;VALUE=URI;X-ADDRESS=Rynek Łazarski\, 61-001\, 
 Poznań \, Polska \, 61-001\, Poland;X-APPLE-RADIUS=100;X-TITLE=Rynek Łaz
 arski:geo:0,0
END:VEVENT
BEGIN:VTIMEZONE
TZID:Europe/Warsaw
X-LIC-LOCATION:Europe/Warsaw
BEGIN:DAYLIGHT
DTSTART:20250330T030000
TZOFFSETFROM:+0100
TZOFFSETTO:+0200
TZNAME:CEST
END:DAYLIGHT
END:VTIMEZONE
END:VCALENDAR