BEGIN:VCALENDAR
VERSION:2.0
PRODID:-//wp-events-plugin.com//7.2.3.1//EN
TZID:Europe/Warsaw
X-WR-TIMEZONE:Europe/Warsaw
BEGIN:VEVENT
UID:63@aszteatr.pl
DTSTART;TZID=Europe/Warsaw:20251106T200000
DTEND;TZID=Europe/Warsaw:20251106T213000
DTSTAMP:20251026T152026Z
URL:https://aszteatr.pl/events/oczywiscie-kochanie-obscena-asz-teatru-2/
SUMMARY:OCZYWIŚCIE KOCHANIE / ObScena Asz.Teatru
DESCRIPTION:Teatr asz.teatr zaprasza ponownie na pikantny spektakl dla doro
 słych.\n„Oczywiście kochanie”\, to krótka opowieść o miłości\, 
 doprawiona odrobiną pikanterii\, dowcipu\, hazardu i bitej śmietany.
ATTACH;FMTTYPE=image/jpeg:https://aszteatr.pl/wp-content/uploads/2024/10/2
 022_06_23_Oczywiscie_kochanie_10.jpg
LOCATION:Kwatera Główna AszTeatru\, Starołęcka 60A\, Poznań\, Poland
X-APPLE-STRUCTURED-LOCATION;VALUE=URI;X-ADDRESS=Starołęcka 60A\, Poznań\
 , Poland;X-APPLE-RADIUS=100;X-TITLE=Kwatera Główna AszTeatru:geo:0,0
END:VEVENT
BEGIN:VTIMEZONE
TZID:Europe/Warsaw
X-LIC-LOCATION:Europe/Warsaw
BEGIN:STANDARD
DTSTART:20251026T020000
TZOFFSETFROM:+0200
TZOFFSETTO:+0100
TZNAME:CET
END:STANDARD
END:VTIMEZONE
END:VCALENDAR