BEGIN:VCALENDAR
VERSION:2.0
PRODID:-//wp-events-plugin.com//7.2.3.1//EN
TZID:Europe/Warsaw
X-WR-TIMEZONE:Europe/Warsaw
BEGIN:VEVENT
UID:39@aszteatr.pl
DTSTART;TZID=Europe/Warsaw:20250628T190000
DTEND;TZID=Europe/Warsaw:20250628T220000
DTSTAMP:20250617T212625Z
URL:https://aszteatr.pl/events/ostatnie-takie-trio-koncert-scena-muzyczna-
 starolyna/
SUMMARY:OSTATNIE TAKIE TRIO koncert / scena muzyczna Starołyna
DESCRIPTION:Kolejny koncert w ramach sceny muzycznej Starołyna.\nZabierzem
 y Was w bluesowo-jazzową podróż po znanych Wam przebojach polskich i za
 granicznych.
ATTACH;FMTTYPE=image/jpeg:https://aszteatr.pl/wp-content/uploads/2025/06/0
 c52736a-e7b5-4ad6-b824-bc5f83c76a29.jpg
LOCATION:Kwatera Główna AszTeatru\, Starołęcka 60A\, Poznań\, Poland
X-APPLE-STRUCTURED-LOCATION;VALUE=URI;X-ADDRESS=Starołęcka 60A\, Poznań\
 , Poland;X-APPLE-RADIUS=100;X-TITLE=Kwatera Główna AszTeatru:geo:0,0
END:VEVENT
BEGIN:VTIMEZONE
TZID:Europe/Warsaw
X-LIC-LOCATION:Europe/Warsaw
BEGIN:DAYLIGHT
DTSTART:20250330T030000
TZOFFSETFROM:+0100
TZOFFSETTO:+0200
TZNAME:CEST
END:DAYLIGHT
END:VTIMEZONE
END:VCALENDAR