BEGIN:VCALENDAR
VERSION:2.0
PRODID:-//wp-events-plugin.com//7.2.3.1//EN
TZID:Europe/Warsaw
X-WR-TIMEZONE:Europe/Warsaw
BEGIN:VEVENT
UID:37@aszteatr.pl
DTSTART;TZID=Europe/Warsaw:20250615T180000
DTEND;TZID=Europe/Warsaw:20250615T193000
DTSTAMP:20250514T210041Z
URL:https://aszteatr.pl/events/ozenek-boryny-we-wsi-gorne-julino-mariola-w
 alczak-mikolajczakowa/
SUMMARY:Ożenek Boryny we wsi Gorne Julino / Mariola Walczak-Mikołajczakow
 a
DESCRIPTION:100 lat po ukazaniu się drukiem "Chłopów" Władysława Reymo
 nta\, żenimy Borynę w bułgarskiej wsi Gorno Julino. Wieś jest podobna 
 do naszych\, ludzie też jakby znajomi\, ale obyczaje panują tu zgoła od
 mienne.
ATTACH;FMTTYPE=image/jpeg:https://aszteatr.pl/wp-content/uploads/2025/05/P
 2490670-Kopiowanie.jpg
LOCATION:Kwatera Główna AszTeatru\, Starołęcka 60A\, Poznań\, Poland
X-APPLE-STRUCTURED-LOCATION;VALUE=URI;X-ADDRESS=Starołęcka 60A\, Poznań\
 , Poland;X-APPLE-RADIUS=100;X-TITLE=Kwatera Główna AszTeatru:geo:0,0
END:VEVENT
BEGIN:VTIMEZONE
TZID:Europe/Warsaw
X-LIC-LOCATION:Europe/Warsaw
BEGIN:DAYLIGHT
DTSTART:20250330T030000
TZOFFSETFROM:+0100
TZOFFSETTO:+0200
TZNAME:CEST
END:DAYLIGHT
END:VTIMEZONE
END:VCALENDAR