BEGIN:VCALENDAR
VERSION:2.0
PRODID:-//wp-events-plugin.com//7.2.3.1//EN
TZID:Europe/Warsaw
X-WR-TIMEZONE:Europe/Warsaw
BEGIN:VEVENT
UID:57@aszteatr.pl
DTSTART;TZID=Europe/Warsaw:20251018T130000
DTEND;TZID=Europe/Warsaw:20251018T140000
DTSTAMP:20250919T190258Z
URL:https://aszteatr.pl/events/porwanie-baltazara-gabki-bajka-dla-dzieci/
SUMMARY:Porwanie Baltazara Gąbki / bajka dla dzieci
DESCRIPTION:Słynny badacz\, Baltazar Gąbka wyrusza do Krainy Deszczowców
  w celu obserwacji obyczajów żab latających. Jego długa nieobecność 
 w ojczyźnie niepokoi księcia Kraka\, który organizuje ekipę ratunkową
 .
ATTACH;FMTTYPE=image/jpeg:https://aszteatr.pl/wp-content/uploads/2025/06/D
 SC6673.jpg
LOCATION:Kwatera Główna AszTeatru\, Starołęcka 60A\, Poznań\, Poland
X-APPLE-STRUCTURED-LOCATION;VALUE=URI;X-ADDRESS=Starołęcka 60A\, Poznań\
 , Poland;X-APPLE-RADIUS=100;X-TITLE=Kwatera Główna AszTeatru:geo:0,0
END:VEVENT
BEGIN:VTIMEZONE
TZID:Europe/Warsaw
X-LIC-LOCATION:Europe/Warsaw
BEGIN:DAYLIGHT
DTSTART:20250330T030000
TZOFFSETFROM:+0100
TZOFFSETTO:+0200
TZNAME:CEST
END:DAYLIGHT
END:VTIMEZONE
END:VCALENDAR