BEGIN:VCALENDAR
VERSION:2.0
PRODID:-//wp-events-plugin.com//7.2.3.1//EN
TZID:Europe/Warsaw
X-WR-TIMEZONE:Europe/Warsaw
BEGIN:VEVENT
UID:60@aszteatr.pl
DTSTART;TZID=Europe/Warsaw:20251030T180000
DTEND;TZID=Europe/Warsaw:20251030T190000
DTSTAMP:20251026T144418Z
URL:https://aszteatr.pl/events/przystanek-poznan-czyli-kultura-w-drodze-po
 znajmy-sie/
SUMMARY:PRZYSTANEK POZNAŃ czyli kultura w drodze / Poznajmy się
DESCRIPTION:Czy potrafimy tworzyć społeczeństwo pełne wzajemnym szacunk
 u\, akceptacji różnorodności i dialogu międzykulturowym?\nJak wolontar
 iat w Polsce pomaga budować mosty między różnymi kulturami?\nZapraszam
 y na PIERWSZY PRZYSTANEK\,
ATTACH;FMTTYPE=image/jpeg:https://aszteatr.pl/wp-content/uploads/2025/10/8
 e1ee68f-eee8-4b55-a388-81fc4e7e05f8.jpg
LOCATION:Kwatera Główna AszTeatru\, Starołęcka 60A\, Poznań\, Poland
X-APPLE-STRUCTURED-LOCATION;VALUE=URI;X-ADDRESS=Starołęcka 60A\, Poznań\
 , Poland;X-APPLE-RADIUS=100;X-TITLE=Kwatera Główna AszTeatru:geo:0,0
END:VEVENT
BEGIN:VTIMEZONE
TZID:Europe/Warsaw
X-LIC-LOCATION:Europe/Warsaw
BEGIN:STANDARD
DTSTART:20251026T020000
TZOFFSETFROM:+0200
TZOFFSETTO:+0100
TZNAME:CET
END:STANDARD
END:VTIMEZONE
END:VCALENDAR