BEGIN:VCALENDAR
VERSION:2.0
PRODID:-//wp-events-plugin.com//7.2.3.1//EN
TZID:Europe/Warsaw
X-WR-TIMEZONE:Europe/Warsaw
BEGIN:VEVENT
UID:50@aszteatr.pl
DTSTART;TZID=Europe/Warsaw:20250907T150000
DTEND;TZID=Europe/Warsaw:20250907T154500
DTSTAMP:20250804T094233Z
URL:https://aszteatr.pl/events/pyrek-marzyciel-bajka-dla-dzieci/
SUMMARY:PYREK MARZYCIEL  / bajka dla dzieci
DESCRIPTION:Mały Pyrek nie chciał wylądować w garnku i idąc śladami s
 wojej kuzynki Pyzy na polskich dróżkach\, wyruszył w swoją własną po
 dróż.
ATTACH;FMTTYPE=image/jpeg:https://aszteatr.pl/wp-content/uploads/2025/08/4
 48089975_853828236781036_7402262187005688966_n.jpg
LOCATION:Food Fyrtel / Galeria Posnania\, Pleszewska 1\, Poznań\, Polska \
 , Poland
X-APPLE-STRUCTURED-LOCATION;VALUE=URI;X-ADDRESS=Pleszewska 1\, Poznań\, Po
 lska \, Poland;X-APPLE-RADIUS=100;X-TITLE=Food Fyrtel / Galeria Posnania:g
 eo:0,0
END:VEVENT
BEGIN:VTIMEZONE
TZID:Europe/Warsaw
X-LIC-LOCATION:Europe/Warsaw
BEGIN:DAYLIGHT
DTSTART:20250330T030000
TZOFFSETFROM:+0100
TZOFFSETTO:+0200
TZNAME:CEST
END:DAYLIGHT
END:VTIMEZONE
END:VCALENDAR