BEGIN:VCALENDAR
VERSION:2.0
PRODID:-//wp-events-plugin.com//7.2.3.1//EN
TZID:Europe/Warsaw
X-WR-TIMEZONE:Europe/Warsaw
BEGIN:VEVENT
UID:54@aszteatr.pl
DTSTART;TZID=Europe/Warsaw:20250927T190000
DTEND;TZID=Europe/Warsaw:20250927T220000
DTSTAMP:20250820T113536Z
URL:https://aszteatr.pl/events/sama-river-blues-scena-muzyczna-starolyna/
SUMMARY:SAMA RIVER BLUES / scena muzyczna Starołyna
DESCRIPTION:Kolejny koncert w ramach sceny muzycznej Starołyna.\nZabierzem
 y Was ponownie w muzyczną podróż po mocnym blues-rocku. Tym razem na sc
 enie SAMA RIVERS BLUES
ATTACH;FMTTYPE=image/jpeg:https://aszteatr.pl/wp-content/uploads/2025/08/S
 ama_River_Blues_SRB.jpg
LOCATION:Kwatera Główna AszTeatru\, Starołęcka 60A\, Poznań\, Poland
X-APPLE-STRUCTURED-LOCATION;VALUE=URI;X-ADDRESS=Starołęcka 60A\, Poznań\
 , Poland;X-APPLE-RADIUS=100;X-TITLE=Kwatera Główna AszTeatru:geo:0,0
END:VEVENT
BEGIN:VTIMEZONE
TZID:Europe/Warsaw
X-LIC-LOCATION:Europe/Warsaw
BEGIN:DAYLIGHT
DTSTART:20250330T030000
TZOFFSETFROM:+0100
TZOFFSETTO:+0200
TZNAME:CEST
END:DAYLIGHT
END:VTIMEZONE
END:VCALENDAR