BEGIN:VCALENDAR
VERSION:2.0
PRODID:-//wp-events-plugin.com//7.2.3.1//EN
TZID:Europe/Warsaw
X-WR-TIMEZONE:Europe/Warsaw
BEGIN:VEVENT
UID:43@aszteatr.pl
DTSTART;TZID=Europe/Warsaw:20250704T170000
DTEND;TZID=Europe/Warsaw:20250704T183000
DTSTAMP:20250630T142152Z
URL:https://aszteatr.pl/events/spotkanie-z-bajka-teatralna-gluszyna/
SUMMARY:Spotkanie z Bajką  / Teatralna Głuszyna
DESCRIPTION:Spotkanie z Bajką czyli "Porwanie Baltazara Gąbki " i inne ni
 espodzianki.
ATTACH;FMTTYPE=image/jpeg:https://aszteatr.pl/wp-content/uploads/2025/06/D
 SC6673.jpg
LOCATION:Dom Działkowca ROD "Głuszynka"\, Poznań\, ul. Przy lotnisku 2\,
  Głuszyna\, Poznań \, Polska\, Poland
X-APPLE-STRUCTURED-LOCATION;VALUE=URI;X-ADDRESS=Poznań\, ul. Przy lotnisku
  2\, Głuszyna\, Poznań \, Polska\, Poland;X-APPLE-RADIUS=100;X-TITLE=Dom
  Działkowca ROD \"Głuszynka\":geo:0,0
END:VEVENT
BEGIN:VTIMEZONE
TZID:Europe/Warsaw
X-LIC-LOCATION:Europe/Warsaw
BEGIN:DAYLIGHT
DTSTART:20250330T030000
TZOFFSETFROM:+0100
TZOFFSETTO:+0200
TZNAME:CEST
END:DAYLIGHT
END:VTIMEZONE
END:VCALENDAR