BEGIN:VCALENDAR
VERSION:2.0
PRODID:-//wp-events-plugin.com//7.2.3.1//EN
TZID:Europe/Warsaw
X-WR-TIMEZONE:Europe/Warsaw
BEGIN:VEVENT
UID:55@aszteatr.pl
DTSTART;TZID=Europe/Warsaw:20250905T190000
DTEND;TZID=Europe/Warsaw:20250905T203000
DTSTAMP:20250901T131204Z
URL:https://aszteatr.pl/events/szpieg-na-cale-zycie-spektakl-odwolany-i-pr
 zelozony-na-25-ix-2025/
SUMMARY:SZPIEG NA CAŁE ŻYCIE / Spektakl odwołany i przełożony na 25 IX
  2025
DESCRIPTION:UWAGA! Pragniemy poinformować\, że zmuszeni jesteśmy przeło
 żyć spektakl Teatr asz.teatr / 19:00 / SZPIEG NA CAŁE ŻYCIE / "Teatral
 na Głuszyna"\, który miał się odbyć 5 IX na późniejszy termin! \nZa
 praszamy 25 września w czwartek na 19.00! 
ATTACH;FMTTYPE=image/jpeg:https://aszteatr.pl/wp-content/uploads/2024/12/D
 SC0922.jpg
LOCATION:Klub 31.Bazy Lotnictwa Taktycznego\, ul. Silniki 1\, Poznań\, Pol
 \, Poland
X-APPLE-STRUCTURED-LOCATION;VALUE=URI;X-ADDRESS=ul. Silniki 1\, Poznań\, P
 ol\, Poland;X-APPLE-RADIUS=100;X-TITLE=Klub 31.Bazy Lotnictwa Taktycznego:
 geo:0,0
END:VEVENT
BEGIN:VTIMEZONE
TZID:Europe/Warsaw
X-LIC-LOCATION:Europe/Warsaw
BEGIN:DAYLIGHT
DTSTART:20250330T030000
TZOFFSETFROM:+0100
TZOFFSETTO:+0200
TZNAME:CEST
END:DAYLIGHT
END:VTIMEZONE
END:VCALENDAR